View In:
ArcGIS JavaScript
ArcGIS Online Map Viewer
ArcGIS Earth
ArcGIS Pro
Service Description: <DIV STYLE="text-align:Left;font-size:12pt"><DIV><P><SPAN>Uusimaa-kaava 2050:stä teh</SPAN><SPAN>dyn</SPAN><SPAN> StoryMap:n kartta: Taajamat ja keskukset</SPAN></P></DIV></DIV>
Map Name: Kasvun kestävä ohjaaminen
Legend
All Layers and Tables
Dynamic Legend
Dynamic All Layers
Layers:
Description: <DIV STYLE="text-align:Left;font-size:12pt"><DIV><P><SPAN>Uusimaa-kaava 2050:stä teh</SPAN><SPAN>dyn</SPAN><SPAN> StoryMap:n kartta: Taajamat ja keskukset</SPAN></P></DIV></DIV>
Service Item Id: 7439285be08d4aae9325acf544c24150
Copyright Text: Uudenmaan liitto
Spatial Reference:
102100
(3857)
LatestVCSWkid(0)
Single Fused Map Cache: true
Tile Info:
- Height: 256.0
- Width: 256.0
- DPI: 96.0
-
Levels of Detail: 24
-
Level ID: 1
[ Start Tile, End Tile ]
- Resolution: 78271.5169639999
- Scale: 2.95828763795777E8
-
Level ID: 2
[ Start Tile, End Tile ]
- Resolution: 39135.7584820001
- Scale: 1.47914381897889E8
-
Level ID: 3
[ Start Tile, End Tile ]
- Resolution: 19567.8792409999
- Scale: 7.3957190948944E7
-
Level ID: 4
[ Start Tile, End Tile ]
- Resolution: 9783.93962049996
- Scale: 3.6978595474472E7
-
Level ID: 5
[ Start Tile, End Tile ]
- Resolution: 4891.96981024998
- Scale: 1.8489297737236E7
- Format: PNG
- Compression Quality: 0.0
- Origin: X: -2.0037508342787E7
Y: 2.0037508342787E7
- Spatial Reference: 102100
(3857)
LatestVCSWkid(0)
Storage Info:
- Storage Format: esriMapCacheStorageModeCompactV2
- Packet Size: 128
Initial Extent:
XMin: 2572755.8429790735
YMin: 8321443.747328514
XMax: 2925862.287720926
YMax: 8599143.47697149
Spatial Reference: 102100
(0)
LatestVCSWkid(0)
Full Extent:
XMin: 2531241.8117000014
YMin: 8331232.119000003
XMax: 2967376.3189999983
YMax: 8589355.105300002
Spatial Reference: 102100
(0)
LatestVCSWkid(0)
Units: esriMeters
Supported Image Format Types: PNG32,PNG24,PNG,JPG,DIB,TIFF,EMF,PS,PDF,GIF,SVG,SVGZ,BMP
Document Info:
Title: Taajamat ja keskukset
Author:
Comments: <DIV STYLE="text-align:Left;font-size:12pt"><DIV><P><SPAN>Uusimaa-kaava 2050:stä teh</SPAN><SPAN>dyn</SPAN><SPAN> StoryMap:n kartta: Taajamat ja keskukset</SPAN></P></DIV></DIV>
Subject: Taajamat ja keskukset -teema Uusimaa-kaava 2050:stä
Category:
Keywords: Uusimaa-kaava,maakuntakaava,taajama,keskus
AntialiasingMode: Fast
TextAntialiasingMode: Force
Supports Dynamic Layers: true
MaxRecordCount: 2000
MaxSelectionCount: 2000
MaxImageHeight: 4096
MaxImageWidth: 4096
Supported Query Formats: JSON, geoJSON, PBF
Supports Query Data Elements: true
Min Scale: 4622324.434309
Max Scale: 72223.819286
Min LOD: 7
Max LOD: 13
Supports Datum Transformation: true
Child Resources:
Info
Dynamic Layer
Supported Operations:
Export Map
Identify
QueryLegends
QueryDomains
Find
Return Updates