View In:
ArcGIS JavaScript
ArcGIS Online Map Viewer
ArcGIS Earth
ArcGIS Pro
Service Description: <DIV STYLE="text-align:Left;font-size:12pt"><DIV><DIV><P><SPAN>Uusimaa-kaava</SPAN><SPAN> 2050</SPAN><SPAN> pohjakartta (Web</SPAN><SPAN> M</SPAN><SPAN>ercator)</SPAN></P></DIV></DIV></DIV>
Map Name: Uusimaa-kaava 2050 pohjakartta
Legend
All Layers and Tables
Dynamic Legend
Dynamic All Layers
Layers:
Description: <DIV STYLE="text-align:Left;font-size:12pt"><DIV><DIV><P><SPAN>Uusimaa-kaava</SPAN><SPAN> 2050</SPAN><SPAN> pohjakartta (Web</SPAN><SPAN> M</SPAN><SPAN>ercator)</SPAN></P></DIV></DIV></DIV>
Service Item Id: 1768a93f7e054a8b805e06838fc8d63c
Copyright Text: Maanmittauslaitos
Spatial Reference:
102100
(3857)
LatestVCSWkid(0)
Single Fused Map Cache: true
Tile Info:
- Height: 256
- Width: 256
- DPI: 96
-
Levels of Detail: 24
-
Level ID: 1
[ Start Tile, End Tile ]
- Resolution: 78271.5169639999
- Scale: 2.95828763795777E8
-
Level ID: 2
[ Start Tile, End Tile ]
- Resolution: 39135.7584820001
- Scale: 1.47914381897889E8
-
Level ID: 3
[ Start Tile, End Tile ]
- Resolution: 19567.8792409999
- Scale: 7.3957190948944E7
-
Level ID: 4
[ Start Tile, End Tile ]
- Resolution: 9783.93962049996
- Scale: 3.6978595474472E7
-
Level ID: 5
[ Start Tile, End Tile ]
- Resolution: 4891.96981024998
- Scale: 1.8489297737236E7
- Format: PNG
- Compression Quality: 0.0
- Origin: X: -2.0037508342787E7
Y: 2.0037508342787E7
- Spatial Reference: 102100
(3857)
LatestVCSWkid(0)
Storage Info:
- Storage Format: esriMapCacheStorageModeCompactV2
- Packet Size: 128
Initial Extent:
XMin: 2648626.6909627384
YMin: 8360168.814482774
XMax: 2909358.8230039272
YMax: 8554828.476416059
Spatial Reference: 102100
(3857)
LatestVCSWkid(0)
Full Extent:
XMin: 2397632.7578000017
YMin: 8287755.770900004
XMax: 3208512.6788999997
YMax: 8825338.857299998
Spatial Reference: 102100
(3857)
LatestVCSWkid(0)
Units: esriMeters
Supported Image Format Types: PNG32,PNG24,PNG,JPG,DIB,TIFF,EMF,PS,PDF,GIF,SVG,SVGZ,BMP
Document Info:
Title: Uusimaa-kaava 2050:n pohjakartta
Author:
Comments: <DIV STYLE="text-align:Left;font-size:12pt"><DIV><DIV><P><SPAN>Uusimaa-kaava</SPAN><SPAN> 2050</SPAN><SPAN> pohjakartta (Web</SPAN><SPAN> M</SPAN><SPAN>ercator)</SPAN></P></DIV></DIV></DIV>
Subject: Uusimaa-kaava 2050:n pohjakartta (Web Mercator)
Category:
Keywords: pohjakartta,Uusimaa
AntialiasingMode: Fast
TextAntialiasingMode: Force
Supports Dynamic Layers: true
Resampling: false
MaxRecordCount: 2000
MaxSelectionCount: 2000
MaxImageHeight: 4096
MaxImageWidth: 4096
Supported Query Formats: JSON, geoJSON, PBF
Supports Query Data Elements: true
Min Scale: 9244648.868618
Max Scale: 36111.909643
Min LOD: 6
Max LOD: 14
Supports Datum Transformation: true
Child Resources:
Info
Dynamic Layer
Supported Operations:
Export Map
Identify
QueryLegends
QueryDomains
Find
Return Updates