View In:
ArcGIS JavaScript
ArcGIS Online Map Viewer
ArcGIS Earth
ArcGIS Pro
Service Description: <DIV STYLE="text-align:Left;font-size:12pt"><DIV><P><SPAN>Uudenmaan 2. vaihemaakuntakaavan pohjakartta (Web Mercator)</SPAN></P></DIV></DIV>
Map Name: Uudenmaan 2. vaihemaakuntakaava pohjakartta
Legend
All Layers and Tables
Dynamic Legend
Dynamic All Layers
Layers:
Description: <DIV STYLE="text-align:Left;font-size:12pt"><DIV><P><SPAN>Uudenmaan 2. vaihemaakuntakaavan pohjakartta (Web Mercator)</SPAN></P></DIV></DIV>
Service Item Id: 40eff3b4ef914edeb861d6ad3c6e34aa
Copyright Text: Maanmittauslaitos
Spatial Reference:
102100
(3857)
LatestVCSWkid(0)
Single Fused Map Cache: true
Tile Info:
- Height: 256.0
- Width: 256.0
- DPI: 96.0
-
Levels of Detail: 24
-
Level ID: 1
[ Start Tile, End Tile ]
- Resolution: 78271.5169639999
- Scale: 2.95828763795777E8
-
Level ID: 2
[ Start Tile, End Tile ]
- Resolution: 39135.7584820001
- Scale: 1.47914381897889E8
-
Level ID: 3
[ Start Tile, End Tile ]
- Resolution: 19567.8792409999
- Scale: 7.3957190948944E7
-
Level ID: 4
[ Start Tile, End Tile ]
- Resolution: 9783.93962049996
- Scale: 3.6978595474472E7
-
Level ID: 5
[ Start Tile, End Tile ]
- Resolution: 4891.96981024998
- Scale: 1.8489297737236E7
- Format: PNG
- Compression Quality: 0.0
- Origin: X: -2.0037508342787E7
Y: 2.0037508342787E7
- Spatial Reference: 102100
(3857)
LatestVCSWkid(0)
Storage Info:
- Storage Format: esriMapCacheStorageModeCompactV2
- Packet Size: 128
Initial Extent:
XMin: 2750665.406737254
YMin: 8423113.076711133
XMax: 2815614.6617794847
YMax: 8471603.456206601
Spatial Reference: 102100
(3857)
LatestVCSWkid(0)
Full Extent:
XMin: 2208280.108710933
YMin: 8292438.92487319
XMax: 3273780.567105175
YMax: 8723803.326951068
Spatial Reference: 102100
(3857)
LatestVCSWkid(0)
Units: esriMeters
Supported Image Format Types: PNG32,PNG24,PNG,JPG,DIB,TIFF,EMF,PS,PDF,GIF,SVG,SVGZ,BMP
Document Info:
Title: Uudenmaan 2. vaihemaakuntakaavan pohjakartta
Author:
Comments: <DIV STYLE="text-align:Left;font-size:12pt"><DIV><P><SPAN>Uudenmaan 2. vaihemaakuntakaavan pohjakartta (Web Mercator)</SPAN></P></DIV></DIV>
Subject: Uudenmaan 2. vaihemaakuntakaavan pohjakartta (Web Mercator)
Category:
Keywords: Uusimaa,pohjakartta
AntialiasingMode: Fast
TextAntialiasingMode: Force
Supports Dynamic Layers: true
Resampling: false
MaxRecordCount: 2000
MaxSelectionCount: 2000
MaxImageHeight: 4096
MaxImageWidth: 4096
Supported Query Formats: JSON, geoJSON, PBF
Supports Query Data Elements: true
Min Scale: 9244648.868618
Max Scale: 36111.909643
Min LOD: 6
Max LOD: 14
Supports Datum Transformation: true
Child Resources:
Info
Dynamic Layer
Supported Operations:
Export Map
Identify
QueryLegends
QueryDomains
Find
Return Updates