View In:
ArcGIS JavaScript
ArcGIS Online Map Viewer
ArcGIS Earth
ArcGIS Pro
Service Description: <DIV STYLE="text-align:Left;"><DIV><DIV><DIV STYLE="font-size:12pt"><P><SPAN>Voimassa olevien maakuntakaavojen yhdistelmä 17.3.2022 </SPAN><SPAN>ETRS-TM35FIN koordinaatistossa. Sisältää Länsi-Uudenmaan vaihemaakuntakaavan, Itä-Uudenmaan vaihemaakuntakaavan sekä Helsingin seudun vaihemaakuntakaavan, Uudenmaan 2. vaihemaakuntakaava Östersundomin alueen sekä osia Uudenmaan 2. vaihemaakuntakaavasta ja Uudenmaan 4. vaihemaakuntakaavasta.</SPAN></P></DIV></DIV></DIV></DIV>
Map Name: Voimassa olevien maakuntakaavojen yhdistelmä 11.11.2021 HAME ETRS-TM35FIN
Legend
All Layers and Tables
Layers:
Description: <DIV STYLE="text-align:Left;"><DIV><DIV><DIV STYLE="font-size:12pt"><P><SPAN>Voimassa olevien maakuntakaavojen yhdistelmä 17.3.2022 </SPAN><SPAN>ETRS-TM35FIN koordinaatistossa. Sisältää Länsi-Uudenmaan vaihemaakuntakaavan, Itä-Uudenmaan vaihemaakuntakaavan sekä Helsingin seudun vaihemaakuntakaavan, Uudenmaan 2. vaihemaakuntakaava Östersundomin alueen sekä osia Uudenmaan 2. vaihemaakuntakaavasta ja Uudenmaan 4. vaihemaakuntakaavasta.</SPAN></P></DIV></DIV></DIV></DIV>
Service Item Id: 68076d409a0a4b0faabc3823d7051d7d
Copyright Text: Uudenmaan liitto, Maanmittauslaitos
Spatial Reference:
102139
(3067)
LatestVCSWkid(0)
Single Fused Map Cache: true
Tile Info:
- Height: 256.0
- Width: 256.0
- DPI: 96.0
-
Levels of Detail: 19
-
Level ID: 0
[ Start Tile, End Tile ]
- Resolution: 78109.09330419017
- Scale: 2.952154707559943E8
-
Level ID: 1
[ Start Tile, End Tile ]
- Resolution: 39054.54665209509
- Scale: 1.4760773537799716E8
-
Level ID: 2
[ Start Tile, End Tile ]
- Resolution: 19527.273326047543
- Scale: 7.380386768899858E7
-
Level ID: 3
[ Start Tile, End Tile ]
- Resolution: 9763.636663023772
- Scale: 3.690193384449929E7
-
Level ID: 4
[ Start Tile, End Tile ]
- Resolution: 4881.818331511886
- Scale: 1.8450966922249645E7
-
Level ID: 5
[ Start Tile, End Tile ]
- Resolution: 2440.909165755943
- Scale: 9225483.461124822
-
Level ID: 6
[ Start Tile, End Tile ]
- Resolution: 1220.4545828779715
- Scale: 4612741.730562411
-
Level ID: 7
[ Start Tile, End Tile ]
- Resolution: 610.2272914389857
- Scale: 2306370.8652812056
-
Level ID: 8
[ Start Tile, End Tile ]
- Resolution: 305.11364571949287
- Scale: 1153185.4326406028
-
Level ID: 9
[ Start Tile, End Tile ]
- Resolution: 152.55682285974643
- Scale: 576592.7163203014
-
Level ID: 10
[ Start Tile, End Tile ]
- Resolution: 76.27841142987322
- Scale: 288296.3581601507
-
Level ID: 11
[ Start Tile, End Tile ]
- Resolution: 38.13920571493661
- Scale: 144148.17908007535
-
Level ID: 12
[ Start Tile, End Tile ]
- Resolution: 19.069602857468304
- Scale: 72074.08954003768
-
Level ID: 13
[ Start Tile, End Tile ]
- Resolution: 9.534801428734152
- Scale: 36037.04477001884
-
Level ID: 14
[ Start Tile, End Tile ]
- Resolution: 4.767400714367076
- Scale: 18018.52238500942
-
Level ID: 15
[ Start Tile, End Tile ]
- Resolution: 2.383700357183538
- Scale: 9009.26119250471
-
Level ID: 16
[ Start Tile, End Tile ]
- Resolution: 1.191850178591769
- Scale: 4504.630596252355
-
Level ID: 17
[ Start Tile, End Tile ]
- Resolution: 0.5959250892958845
- Scale: 2252.3152981261774
-
Level ID: 18
[ Start Tile, End Tile ]
- Resolution: 0.29796254464794225
- Scale: 1126.1576490630887
- Format: PNG
- Compression Quality: 0.0
- Origin: X: -9497963.942936342
Y: 9997963.942936342
- Spatial Reference: 102139
(3067)
LatestVCSWkid(0)
Storage Info:
- Storage Format: esriMapCacheStorageModeCompactV2
- Packet Size: 128
Initial Extent:
XMin: 386346.08028465253
YMin: 6675278.622003711
XMax: 404516.55230719247
YMax: 6691643.948879906
Spatial Reference: 102139
(3067)
LatestVCSWkid(0)
Full Extent:
XMin: 255142.3088999996
YMin: 6616098.1983
XMax: 480933.7520000003
YMax: 6746389.4454
Spatial Reference: 102139
(3067)
LatestVCSWkid(0)
Units: esriMeters
Supported Image Format Types: PNG32,PNG24,PNG,JPG,DIB,TIFF,EMF,PS,PDF,GIF,SVG,SVGZ,BMP
Document Info:
Title: Voimassa olevien maakuntakaavojen yhdistelmä 17.3.2022 ETRS-TM35FIN
Author:
Comments: <DIV STYLE="text-align:Left;"><DIV><DIV><DIV STYLE="font-size:12pt"><P><SPAN>Voimassa olevien maakuntakaavojen yhdistelmä 17.3.2022 </SPAN><SPAN>ETRS-TM35FIN koordinaatistossa. Sisältää Länsi-Uudenmaan vaihemaakuntakaavan, Itä-Uudenmaan vaihemaakuntakaavan sekä Helsingin seudun vaihemaakuntakaavan, Uudenmaan 2. vaihemaakuntakaava Östersundomin alueen sekä osia Uudenmaan 2. vaihemaakuntakaavasta ja Uudenmaan 4. vaihemaakuntakaavasta.</SPAN></P></DIV></DIV></DIV></DIV>
Subject: Voimassa olevien maakuntakaavojen yhdistelmä 17.3.2022 ETRS-TM35FIN koordinaatistossa.
Category:
Keywords: uusimaa,maakuntakaava,yhdistelmä
AntialiasingMode: Fast
TextAntialiasingMode: Force
Supports Dynamic Layers: false
Resampling: false
MaxRecordCount: 5000
MaxSelectionCount: 2000
MaxImageHeight: 4096
MaxImageWidth: 4096
Supported Query Formats: JSON, geoJSON, PBF
Supports Query Data Elements: true
Min Scale: 1.8450966922249645E7
Max Scale: 72074.08954003768
Min LOD: 4
Max LOD: 12
Supports Datum Transformation: true
Child Resources:
Info
Supported Operations:
Export Map
Identify
QueryLegends
QueryDomains
Find
Return Updates