View In:
ArcGIS JavaScript
ArcGIS Online Map Viewer
ArcGIS Earth
ArcGIS Pro
Service Description: <div style='text-align:Left;font-size:12pt'><p><span>Uudenmaan voimassa olevien maakuntakaavojen epävirallinen yhdistelmä 13.3.2023</span></p><p><span /></p><p><span>Uudellamaalla on samanaikaisesti voimassa useita maakuntakaavoja, jotka yhdessä muodostavat voimassa olevien maakuntakaavojen kokonaisuuden. Kokonaisuuden hahmottamista ja tulkintaa helpottavat epävirallinen yhdistelmäkartta sekä sen merkinnät ja määräykset. Kun vallitsevaa kaavatilannetta tulkitaan, on kaikki voimassa olevat maakuntakaavat ja maakuntakaavamerkinnät huomioitava samanaikaisesti.</span></p><p><span /></p><p><span>Yhdistelmä sisältää voimassa olevat merkinnät kaavoista:</span></p><p><span /></p><p><span>- </span><span>Helsingin seudun vaihemaakuntakaava</span></p><p><span>- </span><span>Itä-Uudenmaan vaihemaakuntakaava</span></p><p><span>- </span><span>Länsi-uudenmaan vaihemaakuntakaava</span></p><p><span>- </span><span>Uudenmaan 2. vaihemaakuntakaava - Östersundomin alue</span></p><p><span>- </span><span>Uudenmaan 4. vaihemaakuntakaava</span></p></div>
Map Name: Voimassa olevien maakuntakaavojen yhdistelmä 11.5.2023 (sve) WGS 84 Web Mercator
Legend
All Layers and Tables
Layers:
Description: Uudenmaan voimassa olevien maakuntakaavojen epävirallinen yhdistelmä 13.3.2023Uudellamaalla on samanaikaisesti voimassa useita maakuntakaavoja, jotka yhdessä muodostavat voimassa olevien maakuntakaavojen kokonaisuuden. Kokonaisuuden hahmottamista ja tulkintaa helpottavat epävirallinen yhdistelmäkartta sekä sen merkinnät ja määräykset. Kun vallitsevaa kaavatilannetta tulkitaan, on kaikki voimassa olevat maakuntakaavat ja maakuntakaavamerkinnät huomioitava samanaikaisesti.Yhdistelmä sisältää voimassa olevat merkinnät kaavoista:- Helsingin seudun vaihemaakuntakaava- Itä-Uudenmaan vaihemaakuntakaava- Länsi-uudenmaan vaihemaakuntakaava- Uudenmaan 2. vaihemaakuntakaava - Östersundomin alue- Uudenmaan 4. vaihemaakuntakaava
Service Item Id: fc279b24721542d3acff712deb3dfd2a
Copyright Text: Uudenmaan liitto
Spatial Reference:
102100
(3857)
LatestVCSWkid(0)
Single Fused Map Cache: true
Tile Info:
- Height: 256.0
- Width: 256.0
- DPI: 96.0
-
Levels of Detail: 24
-
Level ID: 1
[ Start Tile, End Tile ]
- Resolution: 78271.5169639999
- Scale: 2.95828763795777E8
-
Level ID: 2
[ Start Tile, End Tile ]
- Resolution: 39135.7584820001
- Scale: 1.47914381897889E8
-
Level ID: 3
[ Start Tile, End Tile ]
- Resolution: 19567.8792409999
- Scale: 7.3957190948944E7
-
Level ID: 4
[ Start Tile, End Tile ]
- Resolution: 9783.93962049996
- Scale: 3.6978595474472E7
-
Level ID: 5
[ Start Tile, End Tile ]
- Resolution: 4891.96981024998
- Scale: 1.8489297737236E7
- Format: PNG
- Compression Quality: 0.0
- Origin: X: -2.0037508342787E7
Y: 2.0037508342787E7
- Spatial Reference: 102100
(3857)
LatestVCSWkid(0)
Storage Info:
- Storage Format: esriMapCacheStorageModeCompactV2
- Packet Size: 128
Initial Extent:
XMin: 2494733.6297765123
YMin: 8188413.33461807
XMax: 3106827.665649671
YMax: 8685168.755522592
Spatial Reference: 102100
(0)
LatestVCSWkid(0)
Full Extent:
XMin: 2522379.603
YMin: 8313636.765500002
XMax: 2967376.3225999996
YMax: 8589371.463799998
Spatial Reference: 102100
(0)
LatestVCSWkid(0)
Units: esriMeters
Supported Image Format Types: PNG32,PNG24,PNG,JPG,DIB,TIFF,EMF,PS,PDF,GIF,SVG,SVGZ,BMP
Document Info:
Title: Voimassa_olevien_maakuntakaavojen_epavirallinen_yhdistelma_sve
Author:
Comments: Uudenmaan voimassa olevien maakuntakaavojen epävirallinen yhdistelmä 13.3.2023Uudellamaalla on samanaikaisesti voimassa useita maakuntakaavoja, jotka yhdessä muodostavat voimassa olevien maakuntakaavojen kokonaisuuden. Kokonaisuuden hahmottamista ja tulkintaa helpottavat epävirallinen yhdistelmäkartta sekä sen merkinnät ja määräykset. Kun vallitsevaa kaavatilannetta tulkitaan, on kaikki voimassa olevat maakuntakaavat ja maakuntakaavamerkinnät huomioitava samanaikaisesti.Yhdistelmä sisältää voimassa olevat merkinnät kaavoista:- Helsingin seudun vaihemaakuntakaava- Itä-Uudenmaan vaihemaakuntakaava- Länsi-uudenmaan vaihemaakuntakaava- Uudenmaan 2. vaihemaakuntakaava - Östersundomin alue- Uudenmaan 4. vaihemaakuntakaava
Subject: Voimassa olevien maakuntakaavojen epävirallinen yhdistelmä 13.3.2023 KHO:n päätöksen jälkeen. WGS84 Web Mercator koordinaatistossa.
Category:
Keywords: maakuntakaava
AntialiasingMode: Fast
TextAntialiasingMode: Force
Supports Dynamic Layers: false
MaxRecordCount: 3000
MaxSelectionCount: 2000
MaxImageHeight: 4096
MaxImageWidth: 4096
Supported Query Formats: JSON, geoJSON, PBF
Supports Query Data Elements: true
Min Scale: 7.3957190948944E7
Max Scale: 72223.819286
Min LOD: 3
Max LOD: 13
Supports Datum Transformation: true
Child Resources:
Info
Supported Operations:
Export Map
Identify
QueryLegends
QueryDomains
Find
Return Updates