View In:
ArcGIS JavaScript
ArcGIS Online Map Viewer
ArcGIS Earth
ArcGIS Pro
Service Description: <div style='text-align:Left;font-size:12pt'><p><span>Kartassa on Uudenmaan 4. vaihemaakuntakaavan voimassa olevat osat. Kartan referenssikoordinaatisto</span><span> on </span><span>Web Mercator (WGS84)</span></p></div>
Map Name: Uudenmaan 4. vaihemaakuntakaava WGS 84 Web Mercator
Legend
All Layers and Tables
Layers:
Description: Kartassa on Uudenmaan 4. vaihemaakuntakaavan voimassa olevat osat. Kartan referenssikoordinaatisto on Web Mercator (WGS84)
Service Item Id: df43c7eb10fa493eb7719c68fcb96fa9
Copyright Text: Uudenmaan liitto
Spatial Reference:
102100
(3857)
LatestVCSWkid(0)
Single Fused Map Cache: true
Tile Info:
- Height: 256.0
- Width: 256.0
- DPI: 96.0
-
Levels of Detail: 24
-
Level ID: 1
[ Start Tile, End Tile ]
- Resolution: 78271.5169639999
- Scale: 2.95828763795777E8
-
Level ID: 2
[ Start Tile, End Tile ]
- Resolution: 39135.7584820001
- Scale: 1.47914381897889E8
-
Level ID: 3
[ Start Tile, End Tile ]
- Resolution: 19567.8792409999
- Scale: 7.3957190948944E7
-
Level ID: 4
[ Start Tile, End Tile ]
- Resolution: 9783.93962049996
- Scale: 3.6978595474472E7
-
Level ID: 5
[ Start Tile, End Tile ]
- Resolution: 4891.96981024998
- Scale: 1.8489297737236E7
- Format: PNG
- Compression Quality: 0.0
- Origin: X: -2.0037508342787E7
Y: 2.0037508342787E7
- Spatial Reference: 102100
(3857)
LatestVCSWkid(0)
Storage Info:
- Storage Format: esriMapCacheStorageModeCompactV2
- Packet Size: 128
Initial Extent:
XMin: 2631059.0569823124
YMin: 8385321.827205891
XMax: 2970749.3551924117
YMax: 8590249.744814606
Spatial Reference: 102100
(3857)
LatestVCSWkid(0)
Full Extent:
XMin: 2522379.603
YMin: 8313636.765500002
XMax: 2967376.3225999996
YMax: 8589371.463799998
Spatial Reference: 102100
(3857)
LatestVCSWkid(0)
Units: esriMeters
Supported Image Format Types: PNG32,PNG24,PNG,JPG,DIB,TIFF,EMF,PS,PDF,GIF,SVG,SVGZ,BMP
Document Info:
Title: Uudenmaan 4. vaihemaakuntakaava WGS 84 Web Mercator
Author:
Comments: Kartassa on Uudenmaan 4. vaihemaakuntakaavan voimassa olevat osat. Kartan referenssikoordinaatisto on Web Mercator (WGS84)
Subject: Uudenmaan 4. vaihemaakuntakaavan voimassa olevat osat. Tilanne 13.3.2023
Category:
Keywords: maakuntakaava
AntialiasingMode: Fast
TextAntialiasingMode: Force
Supports Dynamic Layers: false
MaxRecordCount: 2000
MaxSelectionCount: 2000
MaxImageHeight: 4096
MaxImageWidth: 4096
Supported Query Formats: JSON, geoJSON, PBF
Supports Query Data Elements: true
Min Scale: 7.3957190948944E7
Max Scale: 72223.819286
Min LOD: 5
Max LOD: 13
Supports Datum Transformation: true
Child Resources:
Info
Supported Operations:
Export Map
Identify
QueryLegends
QueryDomains
Find
Return Updates