View In:
ArcGIS JavaScript
ArcGIS Online Map Viewer
ArcGIS Earth
ArcGIS Pro
Service Description: <DIV STYLE="text-align:Left;"><DIV><P><SPAN>Maaperä 1:200 000 (maalajit) sisältää vuosien 2002-2009 aikana tuotettua aineistoa</SPAN><SPAN>.</SPAN><SPAN> Aineistoa voidaan käyttää seutusuunnittelussa, maanpuolustuksessa, maannoskartoituksessa (EU) ja erilaisissa alueellisissa yhteistyökartoituksissa. Kartoitusmittakaava on ollut 1:50 000-1:200 000. Keskimittakaavaisen aineiston muodostamiseeen on käytetty yleistettyä 1:20 000, 1:50 000 ja 1:100 000 maaperän peruskarttaa, ja 1:200 000 mittakaavaista uustuotantoa, joka perustuu tulkintaan ja maastokartoitukseen. Maalajikuvion minimikoko on yleensä noin 6 ha, poikkeuksena jäätikköjokimuodostumat, reunamoreenimuodostumat ja kumpumoreenit, joita kuvataan aineistossa 2 ha pinta-alaa suuremmat alueet. Peittävä turvekerrostuma on kuvattu uustuotannossa soistumana (0-0,3 m turvetta), ohuena turpeena (0,3-0,6 m turvetta) ja paksuna turpeena (yli 0,6 m turvetta). Soistumat, kivikot ja avokalliot on lisätty uustuotantoon Maanmittauslaitoksen maastotietokannan vastaavista kuvioista yleistämällä. Uustuotannon yhteydessä on kerätty maastohavaintoja maapeitteen paksuudesta ja kerrosjärjestyksestä 1 metrin syvyydessä sekä kalliopaljastumista.</SPAN></P></DIV></DIV>
Map Name: Maaperä
Legend
All Layers and Tables
Dynamic Legend
Dynamic All Layers
Layers:
Description: <DIV STYLE="text-align:Left;font-size:12pt"><P><SPAN>Uudenmaan maaperäkartta</SPAN></P></DIV>
Service Item Id: 0f698272f2044896a0260a94cc40acce
Copyright Text: GTK
Spatial Reference:
102100
(3857)
LatestVCSWkid(0)
Single Fused Map Cache: true
Tile Info:
- Height: 256.0
- Width: 256.0
- DPI: 96.0
-
Levels of Detail: 24
-
Level ID: 1
[ Start Tile, End Tile ]
- Resolution: 78271.5169639999
- Scale: 2.95828763795777E8
-
Level ID: 2
[ Start Tile, End Tile ]
- Resolution: 39135.7584820001
- Scale: 1.47914381897889E8
-
Level ID: 3
[ Start Tile, End Tile ]
- Resolution: 19567.8792409999
- Scale: 7.3957190948944E7
-
Level ID: 4
[ Start Tile, End Tile ]
- Resolution: 9783.93962049996
- Scale: 3.6978595474472E7
-
Level ID: 5
[ Start Tile, End Tile ]
- Resolution: 4891.96981024998
- Scale: 1.8489297737236E7
- Format: PNG
- Compression Quality: 0.0
- Origin: X: -2.0037508342787E7
Y: 2.0037508342787E7
- Spatial Reference: 102100
(3857)
LatestVCSWkid(0)
Storage Info:
- Storage Format: esriMapCacheStorageModeCompactV2
- Packet Size: 128
Initial Extent:
XMin: 2558389.228179664
YMin: 8299850.9946823735
XMax: 2931365.0628555263
YMax: 8603141.323091833
Spatial Reference: 102100
(3857)
LatestVCSWkid(0)
Full Extent:
XMin: 2522378.4869604707
YMin: 8313636.918700986
XMax: 2967375.8040747195
YMax: 8589355.39907322
Spatial Reference: 102100
(3857)
LatestVCSWkid(0)
Units: esriMeters
Supported Image Format Types: PNG32,PNG24,PNG,JPG,DIB,TIFF,EMF,PS,PDF,GIF,SVG,SVGZ,BMP
Document Info:
Title: Uudenmaan maaperäkartta
Author:
Comments: <DIV STYLE="text-align:Left;font-size:12pt"><P><SPAN>Uudenmaan maaperäkartta</SPAN></P></DIV>
Subject: Uudenmaan maaperäkartta
Category:
Keywords: maaperä,paljastumat,kallioperä,sedimentit,maaperä,karkearakeinen aines,hienorakeinen aines,savi,lieju,orgaaniset sedimentit,turve,Uusimaa,GTK
AntialiasingMode: Fast
TextAntialiasingMode: Force
Supports Dynamic Layers: true
MaxRecordCount: 2000
MaxSelectionCount: 2000
MaxImageHeight: 4096
MaxImageWidth: 4096
Supported Query Formats: JSON, geoJSON, PBF
Supports Query Data Elements: true
Min Scale: 4622324.434309
Max Scale: 72223.819286
Min LOD: 7
Max LOD: 13
Supports Datum Transformation: true
Child Resources:
Info
Dynamic Layer
Supported Operations:
Export Map
Identify
QueryLegends
QueryDomains
Find
Return Updates