View In:
ArcGIS JavaScript
ArcGIS Online Map Viewer
ArcGIS Earth
ArcGIS Pro
Service Description: Soidensuojelun täydennysehdotuksen kohteet ovat soidensuojelutyöryhmän (2012-2015) tunnistamia, luonnonarvojensa puolesta valtakunnallisesti arvokkaita ja nykyistä suojelualueverkostoa parhaiten täydentäviä suoalueita. Aineisto sisältää soidensuojelutyöryhmän ehdotuksen mukaiset kohteet Etelä-Suomessa (10 eteläisen ELY-keskuksen toimialueella). Aineistosta ei poisteta alueita, vaikka niistä, tai niiden osista, perustetaan suojelualueita tai ne suojellaan muulla tavoin. Aineistossa ei ole mukana soidensuojelun täydennysehdotuksen Pohjois-Suomen (Pohjois-Pohjanmaan, Kainuun ja Lapin ELY-keskusten alueet) yksityismaiden kohteita. Aineistossa on mukana soidensuojelun täydennysehdotuksen sekä Pohjois-Suomen kahdeksan lisäkohteen toteutetut valtionmaan kohteet koko maasta, jotka on hyväksytty valtioneuvostossa 30.3.2015 ja 14.4.2016 (Metsähallituksen alustava avaava tase).
Aineistokokonaisuus koostuu soidensuojelutyöryhmän hyväksymistä Etelä-Suomen kohderajauksista ja kohteiden luontotiedoista, valtionmaiden lakisääteisistä suojelualueista sekä Metsähallituksen pysyvällä päätöksellä suojelluista alueista koko maassa. Aineisto sisältää seuraavat kokonaisuudet:
1. SoidenSuojTaydEhd_ES: Soidensuojelun täydennysehdotuksen Etelä-Suomen kohderajaukset
2. Suotyypit_ES: Etelä-Suomen kohteilla maastokartoituksessa paikannetut suotyypit
3. SoidenSuojTaydEhdSuoyhdistymat_ES: Etelä-Suomen kohteilla havaitut suoyhdistymätyypit -taulu. Yhdistyy SoidenSuojTaydEhd_ES-alueisiin Kohdenro-kentän perusteella.
4. SoidenSuojTaydEhdErityispiirteet_ES: Etelä-Suomen kohteilla havaitut alueelliset erityispiirteet –taulu. Yhdistyy SoidenSuojTaydEhd_ES-alueisiin Kohdenro-kentän perusteella.
5. SoidenSuojTaydEhd_MH_lakikohteet: Valtioneuvoston 30.3.2015 ja 14.4.2016 (Metsähallituksen alustava avaava tase) hyväksymien, lakisääteisesti suojeltujen soidensuojelun täydennysehdotuksen valtionmaan kohteiden lopulliset kohderajaukset 6. SoidenSuojTaydEhd_MH_OmaPaatos: Valtioneuvoston 30.3.2015 ja 14.4.2016 (Metsähallituksen alustava avaava tase) hyväksymien, Metsähallituksen pysyvällä päätöksellä suojeltujen soidensuojelun täydennysehdotuksen valtionmaan kohteiden lopulliset kohderajaukset.
Aineisto kuuluu SYKEn avoimiin aineistoihin (CC BY 4.0).
Map Name: Karttapalvelu
Legend
All Layers and Tables
Layers:
Description: Soidensuojelun täydennysehdotuksen kohteet ovat soidensuojelutyöryhmän (2012-2015) tunnistamia, luonnonarvojensa puolesta valtakunnallisesti arvokkaita ja nykyistä suojelualueverkostoa parhaiten täydentäviä suoalueita. Aineisto sisältää soidensuojelutyöryhmän ehdotuksen mukaiset kohteet Etelä-Suomessa (10 eteläisen ELY-keskuksen toimialueella). Aineistosta ei poisteta alueita, vaikka niistä, tai niiden osista, perustetaan suojelualueita tai ne suojellaan muulla tavoin. Aineistossa ei ole mukana soidensuojelun täydennysehdotuksen Pohjois-Suomen (Pohjois-Pohjanmaan, Kainuun ja Lapin ELY-keskusten alueet) yksityismaiden kohteita. Aineistossa on mukana soidensuojelun täydennysehdotuksen sekä Pohjois-Suomen kahdeksan lisäkohteen toteutetut valtionmaan kohteet koko maasta, jotka on hyväksytty valtioneuvostossa 30.3.2015 ja 14.4.2016 (Metsähallituksen alustava avaava tase).
Aineistokokonaisuus koostuu soidensuojelutyöryhmän hyväksymistä Etelä-Suomen kohderajauksista ja kohteiden luontotiedoista, valtionmaiden lakisääteisistä suojelualueista sekä Metsähallituksen pysyvällä päätöksellä suojelluista alueista koko maassa. Aineisto sisältää seuraavat kokonaisuudet:
1. SoidenSuojTaydEhd_ES: Soidensuojelun täydennysehdotuksen Etelä-Suomen kohderajaukset
2. Suotyypit_ES: Etelä-Suomen kohteilla maastokartoituksessa paikannetut suotyypit
3. SoidenSuojTaydEhdSuoyhdistymat_ES: Etelä-Suomen kohteilla havaitut suoyhdistymätyypit -taulu. Yhdistyy SoidenSuojTaydEhd_ES-alueisiin Kohdenro-kentän perusteella.
4. SoidenSuojTaydEhdErityispiirteet_ES: Etelä-Suomen kohteilla havaitut alueelliset erityispiirteet –taulu. Yhdistyy SoidenSuojTaydEhd_ES-alueisiin Kohdenro-kentän perusteella.
5. SoidenSuojTaydEhd_MH_lakikohteet: Valtioneuvoston 30.3.2015 ja 14.4.2016 (Metsähallituksen alustava avaava tase) hyväksymien, lakisääteisesti suojeltujen soidensuojelun täydennysehdotuksen valtionmaan kohteiden lopulliset kohderajaukset 6. SoidenSuojTaydEhd_MH_OmaPaatos: Valtioneuvoston 30.3.2015 ja 14.4.2016 (Metsähallituksen alustava avaava tase) hyväksymien, Metsähallituksen pysyvällä päätöksellä suojeltujen soidensuojelun täydennysehdotuksen valtionmaan kohteiden lopulliset kohderajaukset.
Aineisto kuuluu SYKEn avoimiin aineistoihin (CC BY 4.0).
Service Item Id: c482a521cf82495f8b185467bad8795f
Copyright Text: CreditCd, CreditCd, CreditCd, CreditCd
Spatial Reference:
102100
(3857)
LatestVCSWkid(0)
Single Fused Map Cache: true
Tile Info:
- Height: 256.0
- Width: 256.0
- DPI: 96.0
-
Levels of Detail: 24
-
Level ID: 1
[ Start Tile, End Tile ]
- Resolution: 78271.5169639999
- Scale: 2.95828763795777E8
-
Level ID: 2
[ Start Tile, End Tile ]
- Resolution: 39135.7584820001
- Scale: 1.47914381897889E8
-
Level ID: 3
[ Start Tile, End Tile ]
- Resolution: 19567.8792409999
- Scale: 7.3957190948944E7
-
Level ID: 4
[ Start Tile, End Tile ]
- Resolution: 9783.93962049996
- Scale: 3.6978595474472E7
-
Level ID: 5
[ Start Tile, End Tile ]
- Resolution: 4891.96981024998
- Scale: 1.8489297737236E7
- Format: PNG
- Compression Quality: 0.0
- Origin: X: -2.0037508342787E7
Y: 2.0037508342787E7
- Spatial Reference: 102100
(3857)
LatestVCSWkid(0)
Storage Info:
- Storage Format: esriMapCacheStorageModeCompactV2
- Packet Size: 128
Initial Extent:
XMin: 2737460.082709144
YMin: 8450475.6912025
XMax: 2836304.2636650465
YMax: 8532940.79318156
Spatial Reference: 102100
(3857)
LatestVCSWkid(0)
Full Extent:
XMin: 2522379.8412999995
YMin: 8313635.812700003
XMax: 2967376.5099
YMax: 8589371.477200001
Spatial Reference: 102100
(3857)
LatestVCSWkid(0)
Units: esriMeters
Supported Image Format Types: PNG32,PNG24,PNG,JPG,DIB,TIFF,EMF,PS,PDF,GIF,SVG,SVGZ,BMP
Document Info:
Title: Karttapalvelu
Author:
Comments:
Subject:
Category:
Keywords: Maanpeite,ympäristönsuojelu,biologismaantieteelliset rajat
AntialiasingMode: Fast
TextAntialiasingMode: Force
Supports Dynamic Layers: false
MaxRecordCount: 2000
MaxSelectionCount: 2000
MaxImageHeight: 4096
MaxImageWidth: 4096
Supported Query Formats: JSON, geoJSON, PBF
Supports Query Data Elements: true
Min Scale: 1.47914381897889E8
Max Scale: 18055.954822
Min LOD: 2
Max LOD: 15
Supports Datum Transformation: true
Child Resources:
Info
Supported Operations:
Export Map
Identify
QueryLegends
QueryDomains
Find
Return Updates