{ "currentVersion": 11.4, "cimVersion": "3.4.0", "serviceDescription": "
Kallioperäkartta-aineisto on yhtenäinen koko Suomen kattava vektorimuotoinen aineistokokonaisuus, joka koostuu kivilaji/yksikköaluetasoista ja viivamaisista tasoista, joissa esitetään siirroksia, muotoviivoja ja juonia. Aineistoon kuuluu myös aluetasona esitettävä lähtöaineistoindeksi ja aineiston laatuluokitus. Aineisto on mittakaavaton, mikä tarkoittaa sitä, että valtaosa aineistosta on peräisin 1:100 000 mittakaavaisista kallioperäkartoista. Paikoittain aineistoon on kuitenkin liitetty hyvinkin yksityiskohtaisia kartta-aineistoja ja vastaavasti suurimittakaavaisempia aineistoja niillä alueilla, missä 1:100 000 kartoitusaineistoa ei ole ollut saatavilla. Joillain alueilla on myös tuotettu uutta karttaa täydentämään puuttuvia alueita. Aineisto on tuotettu vuosien 2006-2009 välisenä aikana. Ainestoa on päivitetty vuonna 2014, jolloin juonitaso lisättiin (versio 2.0) ja vuonna 2016 Hämeen ja Käsivarren aluepäivityksillä (versio 2.1). Kivilaji/yksikköaluetaso sisältää ominaisuustietona Suomen kallioperän yksikkötietojärjestelmän (Finstrati) mukaiset yksikkökoodit, aikakausitiedot sekä litologiset koodit. Viivatasoilla on omat hierarkkiset luokituksensa. Aineistolle on tehty koordinaatistomuunnos maaliskuussa 2013. Muunnos kartastokoordinaattijärjestelmän yhtenäiskoordinaatistosta ETRS-TM35FIN -koordinaatistoon on tehty kolmioittaista affiinista muunnosta käyttäen. <\/SPAN><\/P><\/DIV><\/DIV>",
"mapName": "Kallioperä",
"description": " Uudemmaan kallioperäkartta<\/SPAN><\/P><\/DIV>",
"copyrightText": "GTK",
"supportsDynamicLayers": true,
"layers": [
{
"id": 0,
"name": "Kallioperäkartta",
"parentLayerId": -1,
"defaultVisibility": true,
"subLayerIds": null,
"minScale": 0,
"maxScale": 0,
"type": "Feature Layer",
"geometryType": "esriGeometryPolygon",
"supportsDynamicLegends": true
}
],
"tables": [],
"spatialReference": {
"wkid": 102100,
"latestWkid": 3857,
"xyTolerance": 0.001,
"zTolerance": 0.001,
"mTolerance": 0.001,
"falseX": -20037700,
"falseY": -30241100,
"xyUnits": 10000,
"falseZ": -100000,
"zUnits": 10000,
"falseM": -100000,
"mUnits": 10000
},
"singleFusedMapCache": true,
"tileInfo": {
"rows": 256,
"cols": 256,
"dpi": 96,
"format": "PNG",
"compressionQuality": 0,
"origin": {
"x": -2.0037508342787E7,
"y": 2.0037508342787E7
},
"spatialReference": {
"wkid": 102100,
"latestWkid": 3857,
"xyTolerance": 0.001,
"zTolerance": 0.001,
"mTolerance": 0.001,
"falseX": -20037700,
"falseY": -30241100,
"xyUnits": 1.4892314192838538E8,
"falseZ": -100000,
"zUnits": 10000,
"falseM": -100000,
"mUnits": 10000
},
"lods": [
{
"level": 0,
"resolution": 156543.033928,
"scale": 5.91657527591555E8
},
{
"level": 1,
"resolution": 78271.5169639999,
"scale": 2.95828763795777E8
},
{
"level": 2,
"resolution": 39135.7584820001,
"scale": 1.47914381897889E8
},
{
"level": 3,
"resolution": 19567.8792409999,
"scale": 7.3957190948944E7
},
{
"level": 4,
"resolution": 9783.93962049996,
"scale": 3.6978595474472E7
},
{
"level": 5,
"resolution": 4891.96981024998,
"scale": 1.8489297737236E7
},
{
"level": 6,
"resolution": 2445.98490512499,
"scale": 9244648.868618
},
{
"level": 7,
"resolution": 1222.99245256249,
"scale": 4622324.434309
},
{
"level": 8,
"resolution": 611.49622628138,
"scale": 2311162.217155
},
{
"level": 9,
"resolution": 305.748113140558,
"scale": 1155581.108577
},
{
"level": 10,
"resolution": 152.874056570411,
"scale": 577790.554289
},
{
"level": 11,
"resolution": 76.4370282850732,
"scale": 288895.277144
},
{
"level": 12,
"resolution": 38.2185141425366,
"scale": 144447.638572
},
{
"level": 13,
"resolution": 19.1092570712683,
"scale": 72223.819286
},
{
"level": 14,
"resolution": 9.55462853563415,
"scale": 36111.909643
},
{
"level": 15,
"resolution": 4.77731426794937,
"scale": 18055.954822
},
{
"level": 16,
"resolution": 2.38865713397468,
"scale": 9027.977411
},
{
"level": 17,
"resolution": 1.19432856685505,
"scale": 4513.988705
},
{
"level": 18,
"resolution": 0.597164283559817,
"scale": 2256.994353
},
{
"level": 19,
"resolution": 0.298582141647617,
"scale": 1128.497176
},
{
"level": 20,
"resolution": 0.14929107082380833,
"scale": 564.248588
},
{
"level": 21,
"resolution": 0.07464553541190416,
"scale": 282.124294
},
{
"level": 22,
"resolution": 0.03732276770595208,
"scale": 141.062147
},
{
"level": 23,
"resolution": 0.01866138385297604,
"scale": 70.5310735
}
]
},
"storageInfo": {
"storageFormat": "esriMapCacheStorageModeCompactV2",
"packetSize": 128
},
"initialExtent": {
"xmin": 2558389.0482467646,
"ymin": 8299850.630388385,
"xmax": 2931365.352251771,
"ymax": 8603141.340439165,
"spatialReference": {
"wkid": 102100,
"latestWkid": 3857,
"xyTolerance": 0.001,
"zTolerance": 0.001,
"mTolerance": 0.001,
"falseX": -20037700,
"falseY": -30241100,
"xyUnits": 10000,
"falseZ": -100000,
"zUnits": 10000,
"falseM": -100000,
"mUnits": 10000
}
},
"fullExtent": {
"xmin": 2522378.3654000014,
"ymin": 8313636.571800001,
"xmax": 2967376.035,
"ymax": 8589355.399099998,
"spatialReference": {
"wkid": 102100,
"latestWkid": 3857,
"xyTolerance": 0.001,
"zTolerance": 0.001,
"mTolerance": 0.001,
"falseX": -20037700,
"falseY": -30241100,
"xyUnits": 10000,
"falseZ": -100000,
"zUnits": 10000,
"falseM": -100000,
"mUnits": 10000
}
},
"datesInUnknownTimezone": false,
"minScale": 4622324.434309,
"maxScale": 72223.819286,
"minLOD": 7,
"maxLOD": 13,
"units": "esriMeters",
"supportedImageFormatTypes": "PNG32,PNG24,PNG,JPG,DIB,TIFF,EMF,PS,PDF,GIF,SVG,SVGZ,BMP",
"documentInfo": {
"Title": "Uudemmaan kallioperä",
"Author": "",
"Comments": " Uudemmaan kallioperäkartta<\/SPAN><\/P><\/DIV>",
"Subject": "Uudemmaan kallioperäkartta",
"Category": "",
"Version": "2.6.0",
"AntialiasingMode": "Fast",
"TextAntialiasingMode": "Force",
"Keywords": "kallioperä,litostratigrafiset yksiköt,litodeemiset yksiköt"
},
"supportsQueryDomains": true,
"capabilities": "Map,Query,Data",
"supportedQueryFormats": "JSON, geoJSON, PBF",
"exportTilesAllowed": false,
"referenceScale": 700000.0,
"supportsDatumTransformation": true,
"archivingInfo": {"supportsHistoricMoment": false},
"supportsClipping": true,
"supportsSpatialFilter": true,
"supportsTimeRelation": true,
"supportsQueryDataElements": true,
"mapUnits": {"uwkid": 9001},
"maxSelectionCount": 2000,
"maxRecordCount": 2000,
"maxImageHeight": 4096,
"maxImageWidth": 4096,
"supportedExtensions": "",
"serviceItemId": "9cf95ace9b6e42ef91e178d2ec4a7be3"
}